BEGIN:VCALENDAR
VERSION:2.0
PRODID:-//Eddie&#039;s Diner - ECPv6.15.20//NONSGML v1.0//EN
CALSCALE:GREGORIAN
METHOD:PUBLISH
X-ORIGINAL-URL:https://eddiesdiner.vn
X-WR-CALDESC:Events for Eddie&#039;s Diner
REFRESH-INTERVAL;VALUE=DURATION:PT1H
X-Robots-Tag:noindex
X-PUBLISHED-TTL:PT1H
BEGIN:VTIMEZONE
TZID:Asia/Ho_Chi_Minh
BEGIN:STANDARD
TZOFFSETFROM:+0700
TZOFFSETTO:+0700
TZNAME:+07
DTSTART:20240101T000000
END:STANDARD
END:VTIMEZONE
BEGIN:VEVENT
DTSTART;VALUE=DATE:20250101
DTEND;VALUE=DATE:20310101
DTSTAMP:20260422T061920
CREATED:20250807T100210Z
LAST-MODIFIED:20250807T100908Z
UID:21649-1735689600-1924991999@eddiesdiner.vn
SUMMARY:MONDAY MILKSHAKE MADNESS
DESCRIPTION:
URL:https://eddiesdiner.vn/draft-events/mon-milkshake-madness/
CATEGORIES:SWeekday
ATTACH;FMTTYPE=image/jpeg:https://eddiesdiner.vn/wp-content/uploads/2017/11/1_smon.jpg
END:VEVENT
BEGIN:VEVENT
DTSTART;VALUE=DATE:20250101
DTEND;VALUE=DATE:20310101
DTSTAMP:20260422T061920
CREATED:20250807T100405Z
LAST-MODIFIED:20250807T101202Z
UID:21652-1735689600-1924991999@eddiesdiner.vn
SUMMARY:TASTY TUESDAY
DESCRIPTION:
URL:https://eddiesdiner.vn/draft-events/tasty-tuesday/
CATEGORIES:SWeekday
ATTACH;FMTTYPE=image/jpeg:https://eddiesdiner.vn/wp-content/uploads/2017/11/2_stue.jpg
END:VEVENT
BEGIN:VEVENT
DTSTART;VALUE=DATE:20250101
DTEND;VALUE=DATE:20310101
DTSTAMP:20260422T061920
CREATED:20250807T100524Z
LAST-MODIFIED:20250807T101250Z
UID:21655-1735689600-1924991999@eddiesdiner.vn
SUMMARY:WILD WEDNESDAY
DESCRIPTION:
URL:https://eddiesdiner.vn/draft-events/wild-wednesday/
CATEGORIES:SWeekday
ATTACH;FMTTYPE=image/jpeg:https://eddiesdiner.vn/wp-content/uploads/2017/11/3_swed.jpg
END:VEVENT
BEGIN:VEVENT
DTSTART;VALUE=DATE:20250101
DTEND;VALUE=DATE:20310101
DTSTAMP:20260422T061920
CREATED:20250807T101423Z
LAST-MODIFIED:20250807T101423Z
UID:21668-1735689600-1924991999@eddiesdiner.vn
SUMMARY:TEMPTING THURSDAY
DESCRIPTION:
URL:https://eddiesdiner.vn/draft-events/tempting-thursday-s/
CATEGORIES:SWeekday
ATTACH;FMTTYPE=image/jpeg:https://eddiesdiner.vn/wp-content/uploads/2017/11/4_sthu.jpg
END:VEVENT
END:VCALENDAR